BEGIN:VCALENDAR
PRODID:-//eluceo/ical//2.0/EN
VERSION:2.0
CALSCALE:GREGORIAN
BEGIN:VEVENT
UID:6a3f2460ec01717abdd07e204f23b030
DTSTAMP:20260420T230601Z
SUMMARY:Learn to Read Hebrew with Lorne Hanick
DESCRIPTION:UJA Federation of Greater Toronto\nJewish Toronto Calendar\nhtt
 ps://jewishtoronto.com/calendar/learn-to-read-hebrew-with-lorne-hanick-163
 5367697\n\nRitual Director Lorne Hanick leads a course in Hebrew reading f
 or adult beginners and near-beginners who want to learn to read with fluen
 cy. Upon completion\, students will be comfortable reading Hebrew at synag
 ogue services and following the Torah reading.  The emphasis will be on re
 ading fluency but attention will also be paid to the vocabulary and gramma
 r in the primer.
DTSTART;TZID=America/Toronto:20211101T194500
DTEND;TZID=America/Toronto:20211101T204500
END:VEVENT
END:VCALENDAR
