BEGIN:VCALENDAR
PRODID:-//eluceo/ical//2.0/EN
VERSION:2.0
CALSCALE:GREGORIAN
BEGIN:VEVENT
UID:ff2771c50603c7a3cc87b3a404d0501c
DTSTAMP:20260420T111422Z
SUMMARY:Learn about the 2017 Developmental Disabilities Counsellor Program
DESCRIPTION:UJA Federation of Greater Toronto\nJewish Toronto Calendar\nhtt
 ps://jewishtoronto.com/calendar/learn-about-the-2017-developmental-disabil
 ities-counsellor-program\n\nThe DDC Program is a joint Reena and George Br
 own College Certificate Program\, in partnership with Kerry’s Place Auti
 sm Services and Montage Support Services. This four-month intensive progra
 m\, featuring over 30 courses and 269 hours of hands-on experience\, is a 
 great opportunity for people wishing to pursue a career supporting people 
 with developmental disabilities.\n\nJoin us for an information session and
  find out if the DDC Program is right for you!
DTSTART;TZID=America/Toronto:20170518T160000
DTEND;TZID=America/Toronto:20170518T180000
END:VEVENT
END:VCALENDAR
