BEGIN:VCALENDAR
PRODID:-//eluceo/ical//2.0/EN
VERSION:2.0
CALSCALE:GREGORIAN
BEGIN:VEVENT
UID:a085104d54f278abb7a3c66b7e373112
DTSTAMP:20260420T035959Z
SUMMARY:Leaders of Tomorrow Gala Dinner
DESCRIPTION:UJA Federation of Greater Toronto\nJewish Toronto Calendar\nhtt
 ps://jewishtoronto.com/calendar/leaders-of-tomorrow-gala-dinner-1597242785
 \n\nStandWithUs Canada is an educational non-profit organization that teac
 hes all students facts about Israel in order to counter anti-Semitic activ
 ity on university campuses and beyond. The gala evening is an opportunity 
 to recognize organizational supporters\, celebrate achievements and share 
 important messages with our communities.
DTSTART;TZID=America/Toronto:20211118T180000
DTEND;TZID=America/Toronto:20211118T200000
END:VEVENT
END:VCALENDAR
