BEGIN:VCALENDAR
PRODID:-//eluceo/ical//2.0/EN
VERSION:2.0
CALSCALE:GREGORIAN
BEGIN:VEVENT
UID:2fc8c956a4e434bd4cc35b9208d06e84
DTSTAMP:20260422T071424Z
SUMMARY:Lawyers present UJA Lunch & Learn with Nitsana Darshan-Leitner 
DESCRIPTION:UJA Federation of Greater Toronto\nJewish Toronto Calendar\nhtt
 ps://jewishtoronto.com/calendar/lawyers-present-uja-lunch-learn-with-nitsa
 na-darshan-leitner\n\nNitsana Darshan-Leitner - founder and director of Sh
 urat HaDin (Israel Law Center).
DTSTART;TZID=America/Toronto:20141111T120000
DTEND;TZID=America/Toronto:20141111T133000
END:VEVENT
END:VCALENDAR
