BEGIN:VCALENDAR
PRODID:-//eluceo/ical//2.0/EN
VERSION:2.0
CALSCALE:GREGORIAN
BEGIN:VEVENT
UID:3fca962aef64bc253fbfee795c671184
DTSTAMP:20260424T155925Z
SUMMARY:Laugh Away the Winter Blahs with Alf Kwinter
DESCRIPTION:UJA Federation of Greater Toronto\nJewish Toronto Calendar\nhtt
 ps://jewishtoronto.com/calendar/laugh-away-the-winter-blahs-with-alf-kwint
 er\n\nLaugh until your sides hurt with the comedic shtick of lawyer-funny 
 man Alf Kwinter.  Alf has entertained audiences in synagogues across Cana
 da with his hilarious stories and jokes. Come join Thornhill Lodge\, B’n
 ai Brith members for a fun-filled evening of humour and camaraderie.\n\nTh
 ere is a brief General Meeting for Lodge members at 7:30 p.m.\, followed b
 y our Lodge Comedy Night with Alf Kwinter at 8 p.m.\n\n$3-Singles\, $5-Cou
 ples. Guests welcome.\n\nLight refreshments will be served.\n...
DTSTART;TZID=America/Toronto:20150124T193000
DTEND;TZID=America/Toronto:20150124T220000
END:VEVENT
END:VCALENDAR
