BEGIN:VCALENDAR
PRODID:-//eluceo/ical//2.0/EN
VERSION:2.0
CALSCALE:GREGORIAN
BEGIN:VEVENT
UID:e64c92d8be26ca673596f89bbd22d603
DTSTAMP:20260423T181845Z
SUMMARY:Latner Classic Golf Tournament
DESCRIPTION:UJA Federation of Greater Toronto\nJewish Toronto Calendar\nhtt
 ps://jewishtoronto.com/calendar/latner-classic-golf-tournament\n\nTee-off 
 at 12:00 noon\nRotating barbeque\nAmazing raffles\nOne of the top golf cou
 rses in Ontario\n\n 
DTSTART;TZID=America/Toronto:20150615T110000
DTEND;TZID=America/Toronto:20150615T170000
END:VEVENT
END:VCALENDAR
