BEGIN:VCALENDAR
PRODID:-//eluceo/ical//2.0/EN
VERSION:2.0
CALSCALE:GREGORIAN
BEGIN:VEVENT
UID:2a939dd0a5b0df78819305d44b6cba96
DTSTAMP:20260421T113055Z
SUMMARY:Latkes & Lights: A Pre-Hanukkah Havdallah Celebration
DESCRIPTION:UJA Federation of Greater Toronto\nJewish Toronto Calendar\nhtt
 ps://jewishtoronto.com/calendar/latkes--lights-a-pre-hanukkah-havdallah-ce
 lebration-1511893834\n\nEnjoy latkes with loved ones\, spin dreidels with 
 your dearest and get your gelt on this chag! Make a topping suggestion for
  our latke bar when you register online and see if yours makes the cut! Th
 is is a multi-generational event\, so bring your bubbies and zaidies\, chi
 ldren and grandchildren\, parents\, siblings\, aunts\, uncles\, cousins\, 
 and friends\, and prepare to have fun! Crafts\, games\, food and more!\n\n
 Please register at www.bethdavid.com
DTSTART;TZID=America/Toronto:20171209T180000
DTEND;TZID=America/Toronto:20171209T200000
END:VEVENT
END:VCALENDAR
