BEGIN:VCALENDAR
PRODID:-//eluceo/ical//2.0/EN
VERSION:2.0
CALSCALE:GREGORIAN
BEGIN:VEVENT
UID:03cd8a2b5c2d7b11c4152426dcc03143
DTSTAMP:20260420T114955Z
SUMMARY:Latkepalooza with Zane Caplansky for 20s and 30s
DESCRIPTION:UJA Federation of Greater Toronto\nJewish Toronto Calendar\nhtt
 ps://jewishtoronto.com/calendar/latkepalooza-with-zane-caplansky-for-20s-a
 nd-30s-1607556526\n\nJoin Zane Caplansky and Yacov Fruchter for H̱anukkah
  candle lighting as restauranteur Zane Caplansky demos how to make his fam
 ous latkes with all the fixin&#039\;s.\n\nRegister here: https://bethtzede
 ctoronto.shulcloud.com/form/latkepalooza.html
DTSTART;TZID=America/Toronto:20201215T193000
DTEND;TZID=America/Toronto:20201215T210000
END:VEVENT
END:VCALENDAR
