BEGIN:VCALENDAR
PRODID:-//eluceo/ical//2.0/EN
VERSION:2.0
CALSCALE:GREGORIAN
BEGIN:VEVENT
UID:b2cc2f58830c94d910ffd603fb4bd19f
DTSTAMP:20260424T003804Z
SUMMARY:Labour Day - Canada
DESCRIPTION:UJA Federation of Greater Toronto\nJewish Toronto Calendar\nhtt
 ps://jewishtoronto.com/calendar/labour-day-canada\n\nHoliday 
DTSTART;TZID=America/Toronto:20200907T000000
DTEND;TZID=America/Toronto:20200907T235959
END:VEVENT
END:VCALENDAR
