BEGIN:VCALENDAR
PRODID:-//eluceo/ical//2.0/EN
VERSION:2.0
CALSCALE:GREGORIAN
BEGIN:VEVENT
UID:357a65138038fd6d2dd17fdf9bd7427b
DTSTAMP:20260422T003645Z
SUMMARY:KST and JACS Annual Golf Tournament
DESCRIPTION:UJA Federation of Greater Toronto\nJewish Toronto Calendar\nhtt
 ps://jewishtoronto.com/calendar/kst-and-jacs-annual-golf-tournament\n\nKST
  and JACS Annual Golf Tournament
DTSTART;TZID=America/Toronto:20140616T100000
DTEND;TZID=America/Toronto:20140616T170000
END:VEVENT
END:VCALENDAR
