BEGIN:VCALENDAR
PRODID:-//eluceo/ical//2.0/EN
VERSION:2.0
CALSCALE:GREGORIAN
BEGIN:VEVENT
UID:83af772a2e11fdb4757b73ab87452be6
DTSTAMP:20260422T190132Z
SUMMARY:KST 23rd Annual Golf Tournament
DESCRIPTION:UJA Federation of Greater Toronto\nJewish Toronto Calendar\nhtt
 ps://jewishtoronto.com/calendar/kst-23rd-annual-golf-tournament-1553702703
 \n\nKehillat Shaarei Torah of Toronto's 23rd Annual Golf Tournament to tak
 e place\nTuesday\, June 11th\, 2019 at DiamondBack Golf Club\, 13300 Lesli
 e Street\, Richmond Hill.\n\nRegistration and Lunch at 11:45am. Tee-off 1p
 m. Dinner 6:30pm.\n\nRaffle\, Skills competition\, BBQ\, Silent Auction an
 d More!\n\nContact the office: 416.229.2600x3 or office@shaareitorah.com t
 o play or sponsor.
DTSTART;TZID=America/Toronto:20190611T114500
DTEND;TZID=America/Toronto:20190611T235959
END:VEVENT
END:VCALENDAR
