BEGIN:VCALENDAR
PRODID:-//eluceo/ical//2.0/EN
VERSION:2.0
CALSCALE:GREGORIAN
BEGIN:VEVENT
UID:5060801ada45a7851d2bf742a9a80c0b
DTSTAMP:20260424T115652Z
SUMMARY:Kristallnacht and to Honour Beth Emeth Holocaust Survivors
DESCRIPTION:UJA Federation of Greater Toronto\nJewish Toronto Calendar\nhtt
 ps://jewishtoronto.com/calendar/kristallnacht-and-to-honour-beth-emeth-hol
 ocaust-survivors-1633701877\n\nBeth Emeth's Holocaust Education Committee 
 presents: Kristallnacht and to Honour Beth Emeth Holocaust Survivors and t
 heir Families\n\nLink:Kristallnacht and to Honour Beth Emeth Holocaust Sur
 vivors
DTSTART;TZID=America/Toronto:20211110T190000
DTEND;TZID=America/Toronto:20211110T210000
END:VEVENT
END:VCALENDAR
