BEGIN:VCALENDAR
PRODID:-//eluceo/ical//2.0/EN
VERSION:2.0
CALSCALE:GREGORIAN
BEGIN:VEVENT
UID:513ebd69dfabd34b64dfd973a8a92f98
DTSTAMP:20260422T231418Z
SUMMARY:Kow Your Machzor Workshop
DESCRIPTION:UJA Federation of Greater Toronto\nJewish Toronto Calendar\nhtt
 ps://jewishtoronto.com/calendar/kow-your-machzor-workshop\n\nMake your Ros
 h Hashana and Yom Kippur experience even more meaningful with this overvie
 w of the prayers and customs.
DTSTART;TZID=America/Toronto:20170912T200000
DTEND;TZID=America/Toronto:20170912T213000
END:VEVENT
END:VCALENDAR
