BEGIN:VCALENDAR
PRODID:-//eluceo/ical//2.0/EN
VERSION:2.0
CALSCALE:GREGORIAN
BEGIN:VEVENT
UID:1137cc8ae0565d1f6a6e77a80456cbc5
DTSTAMP:20260424T003401Z
SUMMARY:Kosher Winery Tour & Gourmet Lunch
DESCRIPTION:UJA Federation of Greater Toronto\nJewish Toronto Calendar\nhtt
 ps://jewishtoronto.com/calendar/kosher-winery-tour--gourmet-lunch-15670041
 55\n\nOpen to all! Join the Aish Thornhill Community Shul (ATCS) for a win
 ery tour and gourmet lunch at Tzafona Cellars in Niagara!
DTSTART;TZID=America/Toronto:20190915T110000
DTEND;TZID=America/Toronto:20190915T140000
END:VEVENT
END:VCALENDAR
