BEGIN:VCALENDAR
PRODID:-//eluceo/ical//2.0/EN
VERSION:2.0
CALSCALE:GREGORIAN
BEGIN:VEVENT
UID:339c51830640100c7bbf94fab74afd41
DTSTAMP:20260422T055342Z
SUMMARY:Kosher Tapas & Cocktails
DESCRIPTION:UJA Federation of Greater Toronto\nJewish Toronto Calendar\nhtt
 ps://jewishtoronto.com/calendar/kosher-tapas--cocktails-1457967561\n\nToro
 nto's Most Unique Kosher Social Destination!\n\nMOTZEI SHABBAT\n\nEnjoy li
 ve music and delectable dishes at Park Hyatt's Kosher Saturday Soiree. Dig
  into Chef Joan's mouthwatering kosher tapas menu\, and craft barrel-aged 
 cocktails and wine.
DTSTART;TZID=America/Toronto:20160326T210000
DTEND;TZID=America/Toronto:20160326T235500
END:VEVENT
END:VCALENDAR
