BEGIN:VCALENDAR
PRODID:-//eluceo/ical//2.0/EN
VERSION:2.0
CALSCALE:GREGORIAN
BEGIN:VEVENT
UID:b628c56415ea44a70c493dfd046d400b
DTSTAMP:20260421T113708Z
SUMMARY:Kol Nidre at The Song Shul
DESCRIPTION:UJA Federation of Greater Toronto\nJewish Toronto Calendar\nhtt
 ps://jewishtoronto.com/calendar/kol-nidre-at-the-song-shul-1570462618\n\nK
 ol Nidre at The Song Shul The most exquisite\, musical and inspirational K
 ol Nidre service you've ever experienced. Featuring world-renowned Cantor 
 Simon Spiro and the Toronto Festival Singers\, the finest synagogue choir 
 in North America. Musical guest Noa Vlessing Music\, Meaning\, Inspiration
 . Rethink Kol Nidre Toronto Centre for the Arts 5040 Yonge Street Toronto\
 , ON M2N 6R8
DTSTART;TZID=America/Toronto:20191008T190000
DTEND;TZID=America/Toronto:20191008T214500
END:VEVENT
END:VCALENDAR
