BEGIN:VCALENDAR
PRODID:-//eluceo/ical//2.0/EN
VERSION:2.0
CALSCALE:GREGORIAN
BEGIN:VEVENT
UID:5369279bbc23f3440f5648277cc6b95c
DTSTAMP:20260420T095809Z
SUMMARY:Kol Bo Shabbat Services & Dinner
DESCRIPTION:UJA Federation of Greater Toronto\nJewish Toronto Calendar\nhtt
 ps://jewishtoronto.com/calendar/kol-bo-shabbat-services--dinner-1774555000
 \n\nWe will begin with a musical Shabbat service in the Sanctuary featurin
 g visual t'filah and uplifting melodies.\n\nAfter services\, join us for a
  catered Shabbat dinner\, followed by a lively sing-along in the Social Ha
 ll.\nDancing is invited but never required.\n\nFor registration and locati
 on details\, please reach out to arichler@harzion.ca.
DTSTART;TZID=America/Toronto:20260417T180000
DTEND;TZID=America/Toronto:20260417T200000
END:VEVENT
END:VCALENDAR
