BEGIN:VCALENDAR
PRODID:-//eluceo/ical//2.0/EN
VERSION:2.0
CALSCALE:GREGORIAN
BEGIN:VEVENT
UID:3fe8de19c34ab3ff758ac20d7fc282d3
DTSTAMP:20260421T094529Z
SUMMARY:Koffler Chamber Orchestra Concert
DESCRIPTION:UJA Federation of Greater Toronto\nJewish Toronto Calendar\nhtt
 ps://jewishtoronto.com/calendar/koffler-chamber-orchestra-concert\n\nKoffl
 er Chamber Orchestra Concert
DTSTART;TZID=America/Toronto:20140323T150000
DTEND;TZID=America/Toronto:20140323T180000
END:VEVENT
END:VCALENDAR
