BEGIN:VCALENDAR
PRODID:-//eluceo/ical//2.0/EN
VERSION:2.0
CALSCALE:GREGORIAN
BEGIN:VEVENT
UID:67b3777b3205a6e7d9c74437936902ce
DTSTAMP:20260421T142922Z
SUMMARY:Koffler Centre of the Arts presents:   K180: Eric Siblin\, Words an
 d Music
DESCRIPTION:UJA Federation of Greater Toronto\nJewish Toronto Calendar\nhtt
 ps://jewishtoronto.com/calendar/koffler-centre-of-the-arts-presents-k180-e
 ric-siblin-words-and-music\n\nJewish author Eric Siblin performs music fro
 m his new album\, and reads from his new book STUDIO GRACE and discusses b
 eing an artist working in two disciplines\, and how gracefully they someti
 mes collide.\n\nFREE\n\n \n\n \n \n\n\n \n\n \n\n 
DTSTART;TZID=America/Toronto:20151027T190000
DTEND;TZID=America/Toronto:20151027T220000
END:VEVENT
END:VCALENDAR
