BEGIN:VCALENDAR
PRODID:-//eluceo/ical//2.0/EN
VERSION:2.0
CALSCALE:GREGORIAN
BEGIN:VEVENT
UID:9c61a69666264fbec037a6e163251bfa
DTSTAMP:20260420T144327Z
SUMMARY:Klezmer Seudat Purim at Beth Tikvah Synagogue
DESCRIPTION:UJA Federation of Greater Toronto\nJewish Toronto Calendar\nhtt
 ps://jewishtoronto.com/calendar/klezmer-seudat-purim-at-beth-tikvah-synago
 gue-1457454746\n\nObserve the Last of the Four Mitzvot of Purim and Enjoy:
 \n\nThe Freilach Klezmer Duo with Slava Chakhnevitch and World-Renowned Kl
 ezmer Clarinetist\, Roman Kekhman.\n\nShushan Idol\, a Purim version of th
 e popular reality TV show American Idol\, with a surprise cast of contesta
 nts and judges.\n\nA delicious meal and fun for all ages.\n\nCost: Members
 : Adults $25.00\; Children 13 and under $12.50\nNon-members: Adults $30.00
 \; Children 13 and under $15.00
DTSTART;TZID=America/Toronto:20160324T183000
DTEND;TZID=America/Toronto:20160324T213000
END:VEVENT
END:VCALENDAR
