BEGIN:VCALENDAR
PRODID:-//eluceo/ical//2.0/EN
VERSION:2.0
CALSCALE:GREGORIAN
BEGIN:VEVENT
UID:623d35bc4d6ab46e4f3980ce7005aa9c
DTSTAMP:20260422T144024Z
SUMMARY:Klezmer Lunch with Goyfriend\, featuring Sasha Lurje
DESCRIPTION:UJA Federation of Greater Toronto\nJewish Toronto Calendar\nhtt
 ps://jewishtoronto.com/calendar/klezmer-lunch-with-goyfriend-featuring-sas
 ha-lurje-1484153443\n\nJoin us for a special event combining great music w
 ith a delicious and authentic Jewish meal!Latvian-born\, Berlin-based voca
 list Sasha Lurje is best known to Toronto audiences for her show-stopping 
 appearances at the last two Ashkenaz Festivals. She returns to Toronto thi
 s month to debut “Goyfriend\,” her exciting new collaboration with the
  unique Brooklyn-based klezmer band Litvakus. This diverse project explore
 s the image of the Jews and their representations in the folk culture of t
 heir...
DTSTART;TZID=America/Toronto:20170122T110000
DTEND;TZID=America/Toronto:20170122T140000
END:VEVENT
END:VCALENDAR
