BEGIN:VCALENDAR
PRODID:-//eluceo/ical//2.0/EN
VERSION:2.0
CALSCALE:GREGORIAN
BEGIN:VEVENT
UID:1148c45791b20a8bfcc600f65b468ff3
DTSTAMP:20260423T050529Z
SUMMARY:Kippahs and Kilts Scotch Tasting
DESCRIPTION:UJA Federation of Greater Toronto\nJewish Toronto Calendar\nhtt
 ps://jewishtoronto.com/calendar/kippahs-and-kilts-scotch-tasting-156640835
 6\n\nFor all the Lads & Lasses of Adath Israel along with friends and fami
 ly…get ready for an amazing night of Kippahs and Kilts on September 12th
 !\n\nJoin us at the Adath Israel shul for an enjoyable and educational eve
 ning of single malt scotch whisky tasting and support our congregation at 
 the same time!\n\nBring your friends and family (19 and over of course!) f
 or a tasting of five exceptional single malts.\n\nFollowing a delicious de
 li dinner\, our personal Scotch Ambassador recently retired...
DTSTART;TZID=America/Toronto:20190912T190000
DTEND;TZID=America/Toronto:20190912T223000
END:VEVENT
END:VCALENDAR
