BEGIN:VCALENDAR
PRODID:-//eluceo/ical//2.0/EN
VERSION:2.0
CALSCALE:GREGORIAN
BEGIN:VEVENT
UID:6a54111bcee1de0018a02da72840c82f
DTSTAMP:20260419T195146Z
SUMMARY:Kingdoms of David and Solomon: State of Archaeological Knowledge
DESCRIPTION:UJA Federation of Greater Toronto\nJewish Toronto Calendar\nhtt
 ps://jewishtoronto.com/calendar/kingdoms-of-david-and-solomon-state-of-arc
 haeological-knowledge-1491930555\n\nIn this program we will discuss the cu
 rrent state of debate about the Iron II period and what it tells us about 
 the historical reality of King David and Solomon.  We will also look at so
 me recent discoveries that cast a new light on ritual practice during the 
 First Temple period and raise questions about the diversity of ritual prac
 tice that is not always reflected in the Biblical text. Michael Chazan is 
 a Professor in the Department of Anthropology at the University of Toronto
  and Director...
DTSTART;TZID=America/Toronto:20170422T133000
DTEND;TZID=America/Toronto:20170422T143000
END:VEVENT
END:VCALENDAR
