BEGIN:VCALENDAR
PRODID:-//eluceo/ical//2.0/EN
VERSION:2.0
CALSCALE:GREGORIAN
BEGIN:VEVENT
UID:9c371f359c77a9d26082833462cf3950
DTSTAMP:20260421T025019Z
SUMMARY:Killing Cancer Cells - With Dr. Atan Gross
DESCRIPTION:UJA Federation of Greater Toronto\nJewish Toronto Calendar\nhtt
 ps://jewishtoronto.com/calendar/killing-cancer-cells-can-we-program-how-ce
 lls-behave--with-dr-atan-gross\n\nKilling Cancer Cells - Can We Program Ho
 w Cells Behave - With Dr. Atan Gross\n\nFree\n\nThis program is run in par
 tnership with Israel's Weizmann Institute.
DTSTART;TZID=America/Toronto:20141027T133000
DTEND;TZID=America/Toronto:20141027T143000
END:VEVENT
END:VCALENDAR
