BEGIN:VCALENDAR
PRODID:-//eluceo/ical//2.0/EN
VERSION:2.0
CALSCALE:GREGORIAN
BEGIN:VEVENT
UID:f93a2d8d5e0a8bb1f803d36aefb8f789
DTSTAMP:20260421T092754Z
SUMMARY:Kiever Library Essay Contest and Free Book Giveaway
DESCRIPTION:UJA Federation of Greater Toronto\nJewish Toronto Calendar\nhtt
 ps://jewishtoronto.com/calendar/kiever-library-essay-contest-and-free-book
 -giveaway-1720193923\n\nBorrow a book from the Kiever Library to submit it
 s inaugural essay contest or come and get free Jewish books!
DTSTART;TZID=America/Toronto:20240721T130000
DTEND;TZID=America/Toronto:20240721T160000
END:VEVENT
END:VCALENDAR
