BEGIN:VCALENDAR
PRODID:-//eluceo/ical//2.0/EN
VERSION:2.0
CALSCALE:GREGORIAN
BEGIN:VEVENT
UID:330a8ffbb01b26c9d30fd79cda7aeb74
DTSTAMP:20260425T010522Z
SUMMARY:JCC Kids for Kids Triathlon
DESCRIPTION:UJA Federation of Greater Toronto\nJewish Toronto Calendar\nhtt
 ps://jewishtoronto.com/calendar/kids-triathlon-event-1645121864\n\nOur goa
 l is to provide a unique and fun opportunity for children and families. We
  want them to get active and achieve the goal of finishing a triathlon in 
 a positive and encouraging environment. We aim to instill a positive and h
 ealthy attitude towards physical activity/exercise. Completing this event 
 would allow children to improve self-confidence\, self-esteem\, physical a
 bilities\, family relationship\, comradery\, and teamwork.\n\n• Children
  of the JCC and greater community take part in a fu...
DTSTART;TZID=America/Toronto:20220612T080000
DTEND;TZID=America/Toronto:20220612T160000
END:VEVENT
END:VCALENDAR
