BEGIN:VCALENDAR
PRODID:-//eluceo/ical//2.0/EN
VERSION:2.0
CALSCALE:GREGORIAN
BEGIN:VEVENT
UID:c2effdc6d42c558060ea0b57b929e17d
DTSTAMP:20260422T221134Z
SUMMARY:Kids’ CBC Star Will Stroet Live in Concert
DESCRIPTION:UJA Federation of Greater Toronto\nJewish Toronto Calendar\nhtt
 ps://jewishtoronto.com/calendar/kids-cbc-star-will-stroet-live-in-concert\
 n\nPresented by Pebble Star Productions in partnership with Miles Nadal JC
 C\n\nJoin children’s entertainer Will Stroet\, the star of Will's Jams o
 n Kids' CBC\, with his Backyard Band for a high-energy show in English and
  French with fun actions and sing-a-long choruses.\n\nAll families that pu
 rchase tickets will receive FREE ADMISSION to the MNjcc Jungle Gym program
  prior to the concert.\n$12 Single (Advance)\n$40 4-pack (Advance)\n$15 Do
 or\n1 yr. and under are free\nInfo and tickets:  www.algr...
DTSTART;TZID=America/Toronto:20141130T110000
DTEND;TZID=America/Toronto:20141130T130000
END:VEVENT
END:VCALENDAR
