BEGIN:VCALENDAR
PRODID:-//eluceo/ical//2.0/EN
VERSION:2.0
CALSCALE:GREGORIAN
BEGIN:VEVENT
UID:c2de737922d783dd4836bf93285d3ff0
DTSTAMP:20260420T005406Z
SUMMARY:Kicking for Kids Soccerthon
DESCRIPTION:UJA Federation of Greater Toronto\nJewish Toronto Calendar\nhtt
 ps://jewishtoronto.com/calendar/kicking-for-kids-soccerthon-1617116161\n\n
 Kicking For Kids is Canadian Friends of Beit Issie Shapiro's annual flagsh
 ip fundraiser and community event supporting children with disabilities at
  Beit Issie Shapiro and people with disabilities around the globe.
DTSTART;TZID=America/Toronto:20210815T100000
DTEND;TZID=America/Toronto:20210815T170000
END:VEVENT
END:VCALENDAR
