BEGIN:VCALENDAR
PRODID:-//eluceo/ical//2.0/EN
VERSION:2.0
CALSCALE:GREGORIAN
BEGIN:VEVENT
UID:b7c5b95c0708f7ef78d627a324b09cf1
DTSTAMP:20260421T043721Z
SUMMARY:Kevin Courrier Spins the Beatles - Music Lectures with Film Clips
DESCRIPTION:UJA Federation of Greater Toronto\nJewish Toronto Calendar\nhtt
 ps://jewishtoronto.com/calendar/kevin-courrier-spins-the-beatles-music-lec
 tures-with-film-clips-2\n\nExamine how the Beatles' music created both dre
 ams and nightmares in their pursuit of an artificial paradise\, 'Nowhere L
 and'\, built on the principles of pleasure and fulfillment. Based on Artif
 icial Paradise: The Dark Side of The Beatles' Utopian Dream (Greenwood-Pra
 eger\, 2009)\, by lecturer Kevin Courrier\n\nMONDAY DEC 8 TOPIC: Carry Tha
 t Weight: Breaking up and the legacy that followed\n\nDrop in: $12\; $6 fo
 r students and Toronto Jewish Film Society subscribers\n\n 
DTSTART;TZID=America/Toronto:20141208T190000
DTEND;TZID=America/Toronto:20141208T210000
END:VEVENT
END:VCALENDAR
