BEGIN:VCALENDAR
PRODID:-//eluceo/ical//2.0/EN
VERSION:2.0
CALSCALE:GREGORIAN
BEGIN:VEVENT
UID:ae9787b5ed13129f2fa0f00b02d3885f
DTSTAMP:20260424T151927Z
SUMMARY:Kehilla Presents - Private Housing/Public Interests - A Debate
DESCRIPTION:UJA Federation of Greater Toronto\nJewish Toronto Calendar\nhtt
 ps://jewishtoronto.com/calendar/kehilla-presents-private-housingpublic-int
 erests--a-debate\n\nThe debate will be modeled on Intelligence Squared\, t
 he BBC show\, a debate format show where the audience is polled on a topic
 \, debaters go head to head and the audience is polled again following the
  debate to see how their opinions have been changed.\n\nConfirmed debaters
  include Jennifer Keesmaat\, Adam Vaughan\, Councillor Ana Bailao and Mazy
 ar Mortazavi\, (TAS Design/Build). This debate style format is not being s
 et up to be government vs developers.\n\nThe event will begin at 7:00pm wi
 th a ...
DTSTART;TZID=America/Toronto:20171003T190000
DTEND;TZID=America/Toronto:20171003T230000
END:VEVENT
END:VCALENDAR
