BEGIN:VCALENDAR
PRODID:-//eluceo/ical//2.0/EN
VERSION:2.0
CALSCALE:GREGORIAN
BEGIN:VEVENT
UID:9ea811b8d0ee14f8576ec18091f2d08e
DTSTAMP:20260424T050734Z
SUMMARY:KCC Event
DESCRIPTION:UJA Federation of Greater Toronto\nJewish Toronto Calendar\nhtt
 ps://jewishtoronto.com/calendar/kcc-event-1659649889\n\nPremier Event of a
  Sister's Tale\, proceeds going to KCC
DTSTART;TZID=America/Toronto:20220908T190000
DTEND;TZID=America/Toronto:20220908T210000
END:VEVENT
END:VCALENDAR
