BEGIN:VCALENDAR
PRODID:-//eluceo/ical//2.0/EN
VERSION:2.0
CALSCALE:GREGORIAN
BEGIN:VEVENT
UID:584fd0efabeefe51ac28594912ce78ff
DTSTAMP:20260424T045434Z
SUMMARY:Kayla's Children Centre Golf Tournament
DESCRIPTION:UJA Federation of Greater Toronto\nJewish Toronto Calendar\nhtt
 ps://jewishtoronto.com/calendar/kaylas-children-centre-golf-tournament-155
 1133044\n\nKCC 23rd Annual Golf Tournament
DTSTART;TZID=America/Toronto:20190521T110000
DTEND;TZID=America/Toronto:20190521T235900
END:VEVENT
END:VCALENDAR
