BEGIN:VCALENDAR
PRODID:-//eluceo/ical//2.0/EN
VERSION:2.0
CALSCALE:GREGORIAN
BEGIN:VEVENT
UID:540c119009f2c5b8f7bf0f79f9407b51
DTSTAMP:20260421T193117Z
SUMMARY:Kayla's Children Centre 24 Hour Campaign
DESCRIPTION:UJA Federation of Greater Toronto\nJewish Toronto Calendar\nhtt
 ps://jewishtoronto.com/calendar/kaylas-children-centre-24-hour-campaign-15
 78953206\n\n24 hour campaign benefitting Kayla's Children Centre
DTSTART;TZID=America/Toronto:20200211T110000
DTEND;TZID=America/Toronto:20200212T110000
END:VEVENT
END:VCALENDAR
