BEGIN:VCALENDAR
PRODID:-//eluceo/ical//2.0/EN
VERSION:2.0
CALSCALE:GREGORIAN
BEGIN:VEVENT
UID:a4b4bc5f52d7707c6415672ad09d0d91
DTSTAMP:20260423T152822Z
SUMMARY:KatKaTeam (Grades 2-6) - New!
DESCRIPTION:UJA Federation of Greater Toronto\nJewish Toronto Calendar\nhtt
 ps://jewishtoronto.com/calendar/katkateam-grades-2-6-new\n\nNew! KatKaTeam
  (Grades 2-6)\nCo-presented with Camp Gesher/Habonim Dror\nSunday February
  22 |1:00 – 3:30 pm\nFREE\nPlay\, create\, debate and explore!\nAn activ
 e\, fun\, and meaningful opportunity to feel part of a young Jewish commun
 ity that is connected to Israel.\nFun\, meaningful\, Jewish programming th
 at provides a welcoming social space for personal growth while fostering a
  culture of inclusion\, Jewish values\, & mutual respect.\nInfo: Shaliach.
 Gesher@gmail.com\n 
DTSTART;TZID=America/Toronto:20150222T130000
DTEND;TZID=America/Toronto:20150222T153000
END:VEVENT
END:VCALENDAR
