BEGIN:VCALENDAR
PRODID:-//eluceo/ical//2.0/EN
VERSION:2.0
CALSCALE:GREGORIAN
BEGIN:VEVENT
UID:25ad74856beeaf9b100df5e0d688bcbd
DTSTAMP:20260420T082722Z
SUMMARY:Kabbalat Shabbat Service - Danforth Jewish Circle
DESCRIPTION:UJA Federation of Greater Toronto\nJewish Toronto Calendar\nhtt
 ps://jewishtoronto.com/calendar/kabbalat-shabbat-service-danforth-jewish-c
 ircle\n\nLed by Rabbi Miriam Margles & Cantor Lisa Kent\nTake a pause in y
 our busy week for a sweet and joyous song-filled service as we welcome Sha
 bbat together.  A light Kiddush follows the service. Please bring a non-
 perishable item for the Bethany Food Bank.
DTSTART;TZID=America/Toronto:20150508T190000
DTEND;TZID=America/Toronto:20150508T210000
END:VEVENT
END:VCALENDAR
