BEGIN:VCALENDAR
PRODID:-//eluceo/ical//2.0/EN
VERSION:2.0
CALSCALE:GREGORIAN
BEGIN:VEVENT
UID:5ccf77f96cbd96a32e3d3d95c2ef73c8
DTSTAMP:20260421T220624Z
SUMMARY:Kabbalat Shabbat Livestream
DESCRIPTION:UJA Federation of Greater Toronto\nJewish Toronto Calendar\nhtt
 ps://jewishtoronto.com/calendar/kabbalat-shabbat-livestream-1585072208\n\n
 To join us for Kabbalat Shabbat Services\, we will be Livestreaming throug
 h our Facebook Page as well as through our website. Please find the links 
 below to join us for this coming Shabbat:\n\nwww.facebook.com/holyblossomt
 emple/\nhttps://holyblossom.org/prayer-tefillah/livestream/
DTSTART;TZID=America/Toronto:20200327T060000
DTEND;TZID=America/Toronto:20200327T070000
END:VEVENT
END:VCALENDAR
