BEGIN:VCALENDAR
PRODID:-//eluceo/ical//2.0/EN
VERSION:2.0
CALSCALE:GREGORIAN
BEGIN:VEVENT
UID:a1ce93cfcddb1c1b516913e9411545f4
DTSTAMP:20260423T031746Z
SUMMARY:JYN Golf Classic
DESCRIPTION:UJA Federation of Greater Toronto\nJewish Toronto Calendar\nhtt
 ps://jewishtoronto.com/calendar/jyn-golf-classic-1489091048\n\nWe are deli
 ghted to invite you to The first ever JYN Golf Classic. The tournament wil
 l take place on Monday\, June 19 at the Lebovic Golf club. As the JYN Alum
 ni and support network grows year by year\, we aim to create a sought-afte
 r event with a focus on young professionals that provides an affordable co
 st event in addition to networking opportunities and a chance to speak wit
 h influential business leaders. This is the beginning of many Young Adult 
 JYN Alumni initiatives that we will be launc...
DTSTART;TZID=America/Toronto:20170619T130000
DTEND;TZID=America/Toronto:20170619T190000
END:VEVENT
END:VCALENDAR
