BEGIN:VCALENDAR
PRODID:-//eluceo/ical//2.0/EN
VERSION:2.0
CALSCALE:GREGORIAN
BEGIN:VEVENT
UID:c712abf200c1f63b5b99ae411d823860
DTSTAMP:20260422T233558Z
SUMMARY:JVS Toronto AGM
DESCRIPTION:UJA Federation of Greater Toronto\nJewish Toronto Calendar\nhtt
 ps://jewishtoronto.com/calendar/jvs-toronto-agm-1634327499\n\nPlease join 
 us for our Annual General Meeting. We will honour and celebrate clients\, 
 employers\, donors and volunteers whose successes and contributions are he
 lping us lead change so every individual has opportunities for employment.
  
DTSTART;TZID=America/Toronto:20220921T183000
DTEND;TZID=America/Toronto:20220921T203000
END:VEVENT
END:VCALENDAR
