BEGIN:VCALENDAR
PRODID:-//eluceo/ical//2.0/EN
VERSION:2.0
CALSCALE:GREGORIAN
BEGIN:VEVENT
UID:73bb2977fe890cfd1b823088fa63110a
DTSTAMP:20260422T064941Z
SUMMARY:JVS Toronto AGM
DESCRIPTION:UJA Federation of Greater Toronto\nJewish Toronto Calendar\nhtt
 ps://jewishtoronto.com/calendar/jvs-toronto-agm-1433936933\n\nJVS Toronto 
 Annual General Meeting will take place on September 9\, 2015 at Beth Torah
  Synagogue.
DTSTART;TZID=America/Toronto:20150909T183000
DTEND;TZID=America/Toronto:20150909T210000
END:VEVENT
END:VCALENDAR
