BEGIN:VCALENDAR
PRODID:-//eluceo/ical//2.0/EN
VERSION:2.0
CALSCALE:GREGORIAN
BEGIN:VEVENT
UID:3e264cf031535541b1853ba80ecdd8b9
DTSTAMP:20260422T064255Z
SUMMARY:JVS Toronto AGM  and Board Meeting 5 to 9 p.m.
DESCRIPTION:UJA Federation of Greater Toronto\nJewish Toronto Calendar\nhtt
 ps://jewishtoronto.com/calendar/jvs-toronto-agm--and-board-meeting-5-to-9-
 pm-1765986470\n\nJVS BOard Meeting at 5 p.m.\nJVS AGM at 6:30 p.m.
DTSTART;TZID=America/Toronto:20261007T170000
DTEND;TZID=America/Toronto:20261007T190000
END:VEVENT
END:VCALENDAR
