BEGIN:VCALENDAR
PRODID:-//eluceo/ical//2.0/EN
VERSION:2.0
CALSCALE:GREGORIAN
BEGIN:VEVENT
UID:876e4dfa33252e43687ffe866e67dc94
DTSTAMP:20260420T072933Z
SUMMARY:Jump & Jive @ the J:  A Sock Hop in Celebration of Chanukah
DESCRIPTION:UJA Federation of Greater Toronto\nJewish Toronto Calendar\nhtt
 ps://jewishtoronto.com/calendar/jump--jive--the-j-a-sock-hop-in-celebratio
 n-of-chanukah-1510694734\n\nFeaturing The Rev-Tones & The Pistons\nDust 
 off your poodle skirt\, leather jacket and saddle shoes and get ready to s
 hake\, rattle and roll! Enjoy hits from the 1950s and early 1960s - includ
 ing Elvis\, Buddy Holly\, Fats Domino\, Ricky Nelson - performed by an 8-p
 iece rock & roll band.\nIn the Al Green Theatre in the Miles Nadal JCC\nCo
 ncert: 1:00-2:30 pm\nPost-show reception: 2:30-3:30 pm
DTSTART;TZID=America/Toronto:20171207T130000
DTEND;TZID=America/Toronto:20171207T153000
END:VEVENT
END:VCALENDAR
