BEGIN:VCALENDAR
PRODID:-//eluceo/ical//2.0/EN
VERSION:2.0
CALSCALE:GREGORIAN
BEGIN:VEVENT
UID:9cf954ca9728626c08e34ac5b60c378d
DTSTAMP:20260424T003331Z
SUMMARY:Jumans of Toronto: Shine
DESCRIPTION:UJA Federation of Greater Toronto\nJewish Toronto Calendar\nhtt
 ps://jewishtoronto.com/calendar/jumans-of-toronto-shine-1540574331\n\nWhat
  happens when Toronto’s finest\, most creative and fun young professiona
 ls gather to give their take on Jewish life?!\n Find out at Jumans of Toro
 nto: SHINE - The House’s Chanukah extravaganza!\n
DTSTART;TZID=America/Toronto:20181208T191500
DTEND;TZID=America/Toronto:20181209T010000
END:VEVENT
END:VCALENDAR
