BEGIN:VCALENDAR
PRODID:-//eluceo/ical//2.0/EN
VERSION:2.0
CALSCALE:GREGORIAN
BEGIN:VEVENT
UID:4f9301cd1ad575cae1fa3aefb145ba24
DTSTAMP:20260420T165516Z
SUMMARY:Julius: Yiddish Barbershop Quartet 
DESCRIPTION:UJA Federation of Greater Toronto\nJewish Toronto Calendar\nhtt
 ps://jewishtoronto.com/calendar/julius-yiddish-barbershop-quartet\n\nJuliu
 s: Yiddish Barbershop Quartet - Socalled\, Anthony Russell\, Mitch Smolkin
 \, Dave Wall\n\nCo-presented with Temple Sinai and Friends of Yiddish\, as
  part of Jewish Music Week.\n\nTickets $18 in advance | $20 at door
DTSTART;TZID=America/Toronto:20150517T190000
DTEND;TZID=America/Toronto:20150517T210000
END:VEVENT
END:VCALENDAR
