BEGIN:VCALENDAR
PRODID:-//eluceo/ical//2.0/EN
VERSION:2.0
CALSCALE:GREGORIAN
BEGIN:VEVENT
UID:34a9b960ad3ca8162e6b3042a28bdb03
DTSTAMP:20260420T091857Z
SUMMARY:Judy & David's ChanukahPalooza!
DESCRIPTION:UJA Federation of Greater Toronto\nJewish Toronto Calendar\nhtt
 ps://jewishtoronto.com/calendar/judy--davids-chanukahpalooza-1477501492\n\
 nToronto's ultimate family Chanukah show. Shows at 10:30 am and 3:30 pm. A
 pproximately 1 hour. Tickets $18 - $28
DTSTART;TZID=America/Toronto:20161211T103000
DTEND;TZID=America/Toronto:20161211T163000
END:VEVENT
END:VCALENDAR
