BEGIN:VCALENDAR
PRODID:-//eluceo/ical//2.0/EN
VERSION:2.0
CALSCALE:GREGORIAN
BEGIN:VEVENT
UID:e532882b171d8b07d4c437ecb3df70ba
DTSTAMP:20260421T154237Z
SUMMARY:Judaism Through The Eyes  Of The Talmud
DESCRIPTION:UJA Federation of Greater Toronto\nJewish Toronto Calendar\nhtt
 ps://jewishtoronto.com/calendar/judaism-through-the-eyes--of-the-talmud-14
 63061499\n\nSummer Adult Education Series Taught by Rabbi Grover AND Rabbi
  Shalom Shachter\n\nOne hour before Minha\, on most Shabbat afternoons in 
 June\, July and August.\n\nFirst class begins June 4.
DTSTART;TZID=America/Toronto:20160604T192500
DTEND;TZID=America/Toronto:20160604T202500
END:VEVENT
END:VCALENDAR
