BEGIN:VCALENDAR
PRODID:-//eluceo/ical//2.0/EN
VERSION:2.0
CALSCALE:GREGORIAN
BEGIN:VEVENT
UID:f2fbd6da9155ae16a006a84a147b16e6
DTSTAMP:20260421T220451Z
SUMMARY:Judaism as History and Memory With Rabbi Harvey Meirovich
DESCRIPTION:UJA Federation of Greater Toronto\nJewish Toronto Calendar\nhtt
 ps://jewishtoronto.com/calendar/judaism-as-history-and-memory-with-rabbi-h
 arvey-meirovich-apr-3\n\nJewish History Through the Lens of the Haggadah (
 Part 2)
DTSTART;TZID=America/Toronto:20140403T191500
DTEND;TZID=America/Toronto:20140403T210000
END:VEVENT
END:VCALENDAR
