BEGIN:VCALENDAR
PRODID:-//eluceo/ical//2.0/EN
VERSION:2.0
CALSCALE:GREGORIAN
BEGIN:VEVENT
UID:5bab69969485d8c832c010306b504d2f
DTSTAMP:20260424T081246Z
SUMMARY:Judaism as History and Memory With Rabbi Harvey Meirovich
DESCRIPTION:UJA Federation of Greater Toronto\nJewish Toronto Calendar\nhtt
 ps://jewishtoronto.com/calendar/judaism-as-history-and-memory-with-rabbi-h
 arvey-meirovich\n\nJewish History Through the Lens of the Haggadah (Part 1
 )
DTSTART;TZID=America/Toronto:20140331T191500
DTEND;TZID=America/Toronto:20140331T220000
END:VEVENT
END:VCALENDAR
