BEGIN:VCALENDAR
PRODID:-//eluceo/ical//2.0/EN
VERSION:2.0
CALSCALE:GREGORIAN
BEGIN:VEVENT
UID:4b1f7366f925adbe542bf9afb89c95e6
DTSTAMP:20260421T034151Z
SUMMARY:Judaism and Forgiveness
DESCRIPTION:UJA Federation of Greater Toronto\nJewish Toronto Calendar\nhtt
 ps://jewishtoronto.com/calendar/judaism-and-forgiveness-1442515455\n\nwith
  Dr. Elliott Malamet Co-Founder\, Torah in Motion
DTSTART;TZID=America/Toronto:20150920T193000
DTEND;TZID=America/Toronto:20150920T213000
END:VEVENT
END:VCALENDAR
