BEGIN:VCALENDAR
PRODID:-//eluceo/ical//2.0/EN
VERSION:2.0
CALSCALE:GREGORIAN
BEGIN:VEVENT
UID:fac54f56e6923cbc1246097a6d5ca691
DTSTAMP:20260422T010113Z
SUMMARY:JTEM Sustainability\, Climate Change & Judaism with Sam Shulman
DESCRIPTION:UJA Federation of Greater Toronto\nJewish Toronto Calendar\nhtt
 ps://jewishtoronto.com/calendar/jtem-sustainability-climate-change--judais
 m-with-sam-shulman-1585587559\n\nJTEM Sustainability\, Climate Change & Ju
 daism with Sam Shulman\nWednesdays\, 7:00 pm\n\nUsing a Jewish lens we wil
 l discuss real-life topics such as fashion\, food\, the outdoors\, travel 
 and other pressing topics related to sustainability and climate change.\n\
 nhttps://holyblossom.org/event/jtem-social-justice-with-jennifer-morawetz/
 2020-04-08/
DTSTART;TZID=America/Toronto:20200408T190000
DTEND;TZID=America/Toronto:20200408T200000
END:VEVENT
END:VCALENDAR
