BEGIN:VCALENDAR
PRODID:-//eluceo/ical//2.0/EN
VERSION:2.0
CALSCALE:GREGORIAN
BEGIN:VEVENT
UID:56981e7dd8768e159c0c147afb19c88a
DTSTAMP:20260425T231218Z
SUMMARY:JSpaceCanada Annual General Meeting
DESCRIPTION:UJA Federation of Greater Toronto\nJewish Toronto Calendar\nhtt
 ps://jewishtoronto.com/calendar/jspacecanada-annual-general-meeting-154110
 1451\n\nJSpaceCanada AGM. Panel discussion "Building a Shared Society in I
 srael — Is It Possible?" 7:30pm Free admission. Register online jspagm20
 18.eventbrite.ca
DTSTART;TZID=America/Toronto:20181128T193000
DTEND;TZID=America/Toronto:20181128T213000
END:VEVENT
END:VCALENDAR
